BEGIN:VCALENDAR
VERSION:2.0
PRODID:-//Library Market//iCal Export//EN
BEGIN:VEVENT
SUMMARY:Preschool Storytime
UID:491534
DTSTAMP:20260425T135200Z
DTSTART:20260630T153000Z
DTEND:20260630T163000Z
LOCATION:Timberglen Branch Library, 18505 Midway Road, Dallas, TX 75287, U
 nited States
ROOM: Timberglen - Auditorium
DESCRIPTION:Get ready for kindergarten with books, movement, rhymes and mu
 sic.Suggested ages: 3 - 6
URL:https://dallaslibrary.librarymarket.com/index.php/event/preschool-stor
 ytime-491534
END:VEVENT
END:VCALENDAR
