BEGIN:VCALENDAR
VERSION:2.0
PRODID:-//Library Market//iCal Export//EN
BEGIN:VEVENT
SUMMARY:Toddler Storytime
UID:491540
DTSTAMP:20260423T082800Z
DTSTART:20260613T153000Z
DTEND:20260613T163000Z
LOCATION:Timberglen Branch Library, 18505 Midway Road, Dallas, TX 75287, U
 nited States
ROOM: Timberglen - Auditorium
DESCRIPTION:Practice the skills you need to be ready to read. Hear stories
 , sing songs, jump around and learn! Suggested ages: 18 months - 3 years o
 ld
URL:https://dallaslibrary.librarymarket.com/index.php/event/toddler-storyt
 ime-491540
END:VEVENT
END:VCALENDAR
