BEGIN:VCALENDAR
VERSION:2.0
PRODID:-//Library Market//iCal Export//EN
BEGIN:VEVENT
SUMMARY:STORYTIME GOES FULL NEON MODE: BABY RAVE
UID:497495
DTSTAMP:20260423T010200Z
DTSTART:20260724T153000Z
DTEND:20260724T173000Z
LOCATION:Oak Lawn Branch Library, 4100 Cedar Springs Road, Dallas, TX 7521
 9, United States
ROOM: Oak Lawn - Auditorium
DESCRIPTION:BABY RAVE: STORY TIME GOES FULL NEON MODEThis week Storytime t
 ransforms into a high-voltage, glow-drenched Baby Rave takeover. The books
  are still here, the stories still matter, but the vibe is about to get tu
 rned all the way up. DJ Dejuane will hit the decks spinning the hottest ki
 d-friendly EDM tracks, blending big beats with little ears in mind. Expect
  a full sensory play space lit by black lights, glowing colors, and enough
  glow sticks to light up the whole dance floor. This is not a sit-still ki
 nd of Friday. It is movement, rhythm, imagination, and story magic collidi
 ng in one electric session where kids can dance it out, wiggle it out, and
  then settle back in for stories that still anchor the experience. Glow up
 . Show up. Move, groove, and read in a whole new frequency.✨ Neon Note: 
 Dress your little ravers in their brightest neon colors so they glow with 
 the beat! ✨ 
URL:https://dallaslibrary.librarymarket.com/index.php/event/baby-rave-4974
 95
END:VEVENT
END:VCALENDAR
