BEGIN:VCALENDAR
VERSION:2.0
PRODID:-//Library Market//iCal Export//EN
BEGIN:VEVENT
SUMMARY:Evening Toddler Storytime
UID:500412
DTSTAMP:20260425T135200Z
DTSTART:20260721T233000Z
DTEND:20260722T000000Z
LOCATION:Forest Green Branch Library, 9619 Greenville Ave., Dallas, TX 752
 43, United States
ROOM: Forest Green - Classroom 1
DESCRIPTION:Practice the skills you need to be ready to read. Hear stories
 , sing songs, jump around and learn!Suggested ages: 18 months to 3 years o
 ld.
URL:https://dallaslibrary.librarymarket.com/index.php/event/evening-toddle
 r-storytime-500412
END:VEVENT
END:VCALENDAR
