BEGIN:VCALENDAR
VERSION:2.0
PRODID:-//Library Market//iCal Export//EN
BEGIN:VEVENT
SUMMARY:SMART: All About Animals!
UID:502023
DTSTAMP:20260420T070800Z
DTSTART:20260616T190000Z
DTEND:20260616T200000Z
LOCATION:Pleasant Grove Branch Library, 7310 Lake June Road, Dallas, TX 75
 217, United States
ROOM: Pleasant Grove - Black Box Theater
DESCRIPTION:Get ready for a wild time at the library! 🐾 Meet amazing li
 ve animals up close, learn fun facts, and discover what makes each creatur
 e unique. It’s an interactive, hands-on adventure you won’t want to mi
 ss! 🦎🐍🐾Prepárate para una experiencia salvaje en la biblioteca! 
 🐾 Conoce animales en vivo de cerca, aprende datos curiosos y descubre q
 ué hace único a cada uno. Una aventura interactiva y divertida que no te
  puedes perder! 🦎🐍🐾
URL:https://dallaslibrary.librarymarket.com/index.php/event/smart-all-abou
 t-animals-502023
END:VEVENT
END:VCALENDAR
