BEGIN:VCALENDAR
VERSION:2.0
PRODID:-//Library Market//iCal Export//EN
BEGIN:VEVENT
SUMMARY:SMART-Sharks4kids
UID:502125
DTSTAMP:20260421T094700Z
DTSTART:20260624T190000Z
DTEND:20260624T200000Z
LOCATION:Pleasant Grove Branch Library, 7310 Lake June Road, Dallas, TX 75
 217, United States
ROOM: Pleasant Grove - Black Box Theater
DESCRIPTION:Dive into the World of Sharks with Sharks4Kids! 🦈📚Join 
 us at your local library for an exciting Intro to Sharks lesson with Mic
 helle Eyrich from Sharks4Kids! Kids will discover the fascinating world o
 f sharks, explore their incredible adaptations, and bust common shark myth
 s. Through engaging visuals and hands-on activities, young ocean explorers
  will learn why sharks are essential to healthy oceans. Perfect for curiou
 s minds who love marine life!Sumérgete en el mundo de los tiburones con S
 harks4Kids! 🦈📚¡Únete a nosotros en tu biblioteca local para una fa
 scinante lección de Introducción a los tiburones con Michelle Eyrich de 
 Sharks4Kids! Los niños descubrirán el fascinante mundo de los tiburones,
  explorarán sus increíbles adaptaciones y derribarán mitos comunes sobr
 e los tiburones. A través de atractivas imágenes y actividades práctica
 s, los jóvenes exploradores del océano aprenderán por qué los tiburone
 s son esenciales para la salud de los océanos. Perfecto para mentes curio
 sas amantes de la vida marina.
URL:https://dallaslibrary.librarymarket.com/index.php/event/smart-sharks4k
 ids-502125
END:VEVENT
END:VCALENDAR
