BEGIN:VCALENDAR
VERSION:2.0
PRODID:-//Library Market//iCal Export//EN
BEGIN:VEVENT
SUMMARY:Summer Paws Party: Dog Adoptions!
UID:502136
DTSTAMP:20260421T014600Z
DTSTART:20260711T180000Z
DTEND:20260711T200000Z
LOCATION:Pleasant Grove Branch Library, 7310 Lake June Road, Dallas, TX 75
 217, United States
ROOM: Pleasant Grove - Black Box Theater
DESCRIPTION:Soak up the sunshine and find your new best friend at our Summ
 er Dog Adoption Bash! ☀️🐾 Meet adorable, adoptable pups from Dallas
  Animal Services, get creative with fun, family-friendly crafts, and enjoy
  a special “Read to a Dog” time—perfect for sharing stories and snug
 gles.No adoption fees. Take home the same day!Disfruta del sol y encuentra
  a tu nuevo mejor amigo en nuestro Summer Dog Adoption Bash! ☀️🐾 Co
 noce a adorables perritos disponibles para adopción de Dallas Animal Serv
 ices, ponte creativo con manualidades divertidas para toda la familia y di
 sfruta de un momento especial de “Leerle a un Perro”, perfecto para co
 mpartir historias y muchos abrazos.Sin costo de adopción. Llévalo a casa
  el mismo día!
URL:https://dallaslibrary.librarymarket.com/index.php/event/dog-adoptions-
 502136
END:VEVENT
END:VCALENDAR
