BEGIN:VCALENDAR
VERSION:2.0
PRODID:-//Library Market//iCal Export//EN
BEGIN:VEVENT
SUMMARY:Crafternoon: Melty Ice Cream Cones
UID:502218
DTSTAMP:20260421T213200Z
DTSTART:20260627T190000Z
DTEND:20260627T200000Z
LOCATION:Forest Green Branch Library, 9619 Greenville Ave., Dallas, TX 752
 43, United States
ROOM: Forest Green - Children&#039;s Area
DESCRIPTION:Beat the summer heat with a sweet ice cream-themed craft! Trac
 e your handprint and use it to create a delicious, melty ice cream cone, t
 opped with all your favorite crafty decorations. Materials provided while
  supplies last. 
URL:https://dallaslibrary.librarymarket.com/index.php/event/crafternoon-50
 2218
END:VEVENT
END:VCALENDAR
