BEGIN:VCALENDAR
VERSION:2.0
PRODID:-//Library Market//iCal Export//EN
BEGIN:VEVENT
SUMMARY:Crafternoon: Summer Suncatchers
UID:502219
DTSTAMP:20260422T205700Z
DTSTART:20260725T190000Z
DTEND:20260725T200000Z
LOCATION:Forest Green Branch Library, 9619 Greenville Ave., Dallas, TX 752
 43, United States
ROOM: Forest Green - Children&#039;s Area
DESCRIPTION:Make a colorful suncatcher shaped like a pair of sunglasses. H
 ang it in a window and let the summer sun shine through the bright lenses.
  Materials provided while supplies last. 
URL:https://dallaslibrary.librarymarket.com/index.php/event/crafternoon-50
 2219
END:VEVENT
END:VCALENDAR
