BEGIN:VCALENDAR
VERSION:2.0
PRODID:-//Library Market//iCal Export//EN
BEGIN:VEVENT
SUMMARY:Fiber Lab: Crochet Amigurumi 101
UID:502872
DTSTAMP:20260424T063400Z
DTSTART:20260602T183000Z
DTEND:20260602T193000Z
LOCATION:Timberglen Branch Library, 18505 Midway Road, Dallas, TX 75287, U
 nited States
ROOM: Timberglen - Classroom
DESCRIPTION:A person can pick up a life skill at any age but the earlier t
 hey start the more they get out of it. Learning life skills takes time, th
 e journey is just as important at the destination. These skills can build 
 and improve upon focus, attention to detail, and confidence.June&#039;s li
 fe skill is Crocheting.We will focus on learning grip and hook position, t
 he basics of a magic circle (the most important part of any amigurumi proj
 ect), and 3 basic stitches (single, increase, and decrease). The kids will
  use what they learn to work their way into creating a fun little strawber
 ry buddy that they can play with and take pride in how awesome their compl
 etely 100% self-made toy turned out.The class is set for an hour to take i
 nto consideration a child&#039;s attention span as building focus takes ti
 me and patience. Any follow up sessions to complete their project will be 
 discussed towards the end of class based on rate of progression. Crochetin
 g is not a skill learned and perfected in one sitting, if they are interes
 ted in crocheting past the designated class time, please let us know so we
  can gauge interest for more classes on this subject. Let&#039;s make Sum
 mer Super!
URL:https://dallaslibrary.librarymarket.com/index.php/event/fiber-lab-5028
 72
END:VEVENT
END:VCALENDAR
