BEGIN:VCALENDAR
VERSION:2.0
PRODID:-//Library Market//iCal Export//EN
BEGIN:VEVENT
SUMMARY:Paint Me Like...
UID:503744
DTSTAMP:20260425T145300Z
DTSTART:20261127T000000Z
DTEND:20261127T013000Z
LOCATION:Paul Laurence Dunbar Lancaster-Kiest Branch Library, 2008 East Ki
 est Blvd., Dallas, TX 75216, United States
ROOM: Paul Laurence Dunbar Lancaster-Kiest - Bishop Larry Mcgriff Auditori
 um
DESCRIPTION:Come paint a portrait with a twist! Can be of a stranger or a 
 friend! It might look amazing… or absolutely wild, either way, it’ll b
 e fun! This beginner-friendly painting program is all about having fun, ex
 perimenting with color, and not taking art too seriously. No experience ne
 eded, just bring your imagination. All supplies provided.
URL:https://dallaslibrary.librarymarket.com/index.php/event/paint-me-50374
 4
END:VEVENT
END:VCALENDAR
