BEGIN:VCALENDAR
VERSION:2.0
PRODID:-//Library Market//iCal Export//EN
BEGIN:VEVENT
SUMMARY:Career Launch Pad
UID:504827
DTSTAMP:20260425T113500Z
DTSTART:20260601T150000Z
DTEND:20260601T160000Z
LOCATION:Martin Luther King, Jr. Branch Library, 2922 Martin Luther King J
 r. Blvd., Dallas, TX 75215, United States
ROOM: Martin Luther King, Jr. - Computer Area
DESCRIPTION:1 on 1 dedicated help with a staff member from the Dallas Publ
 ic Library. We can help you fill out applications, update your resume and 
 find out about local resources that can help you take the next step in you
 r career. 
URL:https://dallaslibrary.librarymarket.com/index.php/event/career-launch-
 pad-504827
END:VEVENT
END:VCALENDAR
