BEGIN:VCALENDAR
VERSION:2.0
PRODID:-//Library Market//iCal Export//EN
BEGIN:VEVENT
SUMMARY:🎶 Music, Movement &amp; Me🎶
UID:505550
DTSTAMP:20260426T021000Z
DTSTART:20260711T180000Z
DTEND:20260711T190000Z
LOCATION:Dallas West Branch Library, 2332 Singleton Boulevard, Dallas, TX 
 75212, United States
ROOM: Dallas West - Auditorium
DESCRIPTION:Bring your little one to a fun event where dancing, singing, a
 nd learning go hand in hand! Your child will explore rhythm, melody, and m
 ovement while developing essential skills like memory, fine and gross moto
 r coordination, and more. • Sing and dance along to lively tunes!• Pl
 ay rhythm instruments and discover musical concepts!• Strengthen motor s
 kills and boost memory development!Caregivers are welcome to participate a
 nd make the experience even more memorable!
URL:https://dallaslibrary.librarymarket.com/index.php/event/music-movement
 -me-505550
END:VEVENT
END:VCALENDAR
