BEGIN:VCALENDAR
VERSION:2.0
PRODID:-//Library Market//iCal Export//EN
BEGIN:VEVENT
SUMMARY:Coding Club
UID:506490
DTSTAMP:20260419T171700Z
DTSTART:20260629T190000Z
DTEND:20260629T200000Z
LOCATION:Timberglen Branch Library, 18505 Midway Road, Dallas, TX 75287, U
 nited States
ROOM: Timberglen - Classroom
DESCRIPTION:Learn about sequencing, estimation, control and problem-solvin
 g as you develop a path to early cyber knowledge through the use of a Sphe
 ro Indi, a Bee Bot, a Space Rover and more.Robots provided by the Civil Ai
 r Patrol (Air Force Auxiliary)
URL:https://dallaslibrary.librarymarket.com/index.php/event/coding-club-50
 6490
END:VEVENT
END:VCALENDAR
