BEGIN:VCALENDAR
VERSION:2.0
PRODID:-//Library Market//iCal Export//EN
BEGIN:VEVENT
SUMMARY:Design Lab
UID:506496
DTSTAMP:20260424T001600Z
DTSTART:20260702T190000Z
DTEND:20260702T200000Z
LOCATION:Timberglen Branch Library, 18505 Midway Road, Dallas, TX 75287, U
 nited States
ROOM: Timberglen - Auditorium
DESCRIPTION:Discover what an architect does by engineering a structure fol
 lowing blueprints, engineer a building that can withstand an earthquake an
 d designing other buildings and structures.
URL:https://dallaslibrary.librarymarket.com/index.php/event/design-lab-506
 496
END:VEVENT
END:VCALENDAR
