BEGIN:VCALENDAR
VERSION:2.0
PRODID:-//Library Market//iCal Export//EN
BEGIN:VEVENT
SUMMARY:Creepy Critters
UID:506505
DTSTAMP:20260424T004700Z
DTSTART:20260730T190000Z
DTEND:20260730T200000Z
LOCATION:Timberglen Branch Library, 18505 Midway Road, Dallas, TX 75287, U
 nited States
ROOM: Timberglen - Auditorium
DESCRIPTION:Ready to meet some new, interesting animal friends? Then join 
 us as we welcome Creepy Critters as they showcase all creatures creepy, sl
 ithery and slimy. Handlers will teach about each animal, including where a
 nd how they live. All ages welcome!Part of SMART Summer. Sponsored by the 
 Friends of the Dallas Public Library
URL:https://dallaslibrary.librarymarket.com/index.php/event/creepy-critter
 s-506505
END:VEVENT
END:VCALENDAR
