BEGIN:VCALENDAR
VERSION:2.0
PRODID:-//Library Market//iCal Export//EN
BEGIN:VEVENT
SUMMARY:Equal Heart Snack
UID:507058
DTSTAMP:20260423T032600Z
DTSTART:20260702T210000Z
DTEND:20260702T213000Z
LOCATION:Paul Laurence Dunbar Lancaster-Kiest Branch Library, 2008 East Ki
 est Blvd., Dallas, TX 75216, United States
ROOM: Paul Lawrence Dunbar Lancaster-Kiest - Exhibit Space
DESCRIPTION:Dallas Public Library branches are providing free summer meals
  to children and teens from 1-18 in partnership with the nonprofit hunger 
 organization Education Potential Verified. No proof of need or pre-registr
 ation is required to receive meals. Free meals program will continue throu
 gh August 7th. Meals are funded by the Texas Department of Agriculture’s
  Summer Food Service Program.
URL:https://dallaslibrary.librarymarket.com/index.php/event/equal-heart-sn
 ack-507058
END:VEVENT
END:VCALENDAR
