BEGIN:VCALENDAR
VERSION:2.0
PRODID:-//Library Market//iCal Export//EN
BEGIN:VEVENT
SUMMARY:Chinese Mahjong Club
UID:507817
DTSTAMP:20260421T192400Z
DTSTART:20260616T180000Z
DTEND:20260616T203000Z
LOCATION:Renner Frankford Branch Library, 6400 Frankford Road, Dallas, TX 
 75252, United States
ROOM: Renner-Frankford - Study Room B
DESCRIPTION:Looking to play Mahjong in a relaxed, friendly environment? We
 &#039;re a club that meets Tuesdays and Fridays to socialize and play game
 s of a beginner-friendly Chinese version of mahjong with optional scoring.
  Mahjong tiles, racks, and rulesheets will all be provided. Players of all
  skill levels are welcome.This program was generously funded by the Renner
  Frankford Library Friends. 
URL:https://dallaslibrary.librarymarket.com/index.php/event/copy-chinese-m
 ahjong-club-507817
END:VEVENT
END:VCALENDAR
