BEGIN:VCALENDAR
VERSION:2.0
PRODID:-//Library Market//iCal Export//EN
BEGIN:VEVENT
SUMMARY:Crafternoon
UID:507931
DTSTAMP:20260426T021000Z
DTSTART:20260610T190000Z
DTEND:20260610T200000Z
LOCATION:Renner Frankford Branch Library, 6400 Frankford Road, Dallas, TX 
 75252, United States
ROOM: Renner-Frankford - Children&#039;s Area
DESCRIPTION:Kids, get crafty with us! Make a craft and learn something new
  each month. Today we are making Pop-Up Dino Eggs!
URL:https://dallaslibrary.librarymarket.com/index.php/event/crafternoon-50
 7931
END:VEVENT
END:VCALENDAR
