BEGIN:VCALENDAR
VERSION:2.0
PRODID:-//Library Market//iCal Export//EN
BEGIN:VEVENT
SUMMARY:Crafternoon
UID:507932
DTSTAMP:20260421T035200Z
DTSTART:20260715T190000Z
DTEND:20260715T200000Z
LOCATION:Renner Frankford Branch Library, 6400 Frankford Road, Dallas, TX 
 75252, United States
ROOM: Renner-Frankford - Children&#039;s Area
DESCRIPTION:Kids, get crafty with us! Make a craft and learn something new
  each month. Today we are making Paper Plate Dinosaurs!
URL:https://dallaslibrary.librarymarket.com/index.php/event/crafternoon-50
 7932
END:VEVENT
END:VCALENDAR
