BEGIN:VCALENDAR
VERSION:2.0
PRODID:-//Library Market//iCal Export//EN
BEGIN:VEVENT
SUMMARY:Movie Nite
UID:508340
DTSTAMP:20260423T010200Z
DTSTART:20260602T220000Z
DTEND:20260603T003000Z
LOCATION:Mountain Creek Branch Library, 6102 Mountain Creek Parkway, Dalla
 s, TX 75249, United States
ROOM: Mountain Creek - Study Room
DESCRIPTION:Lights, laughter, and a little movie magic! Beat the heat with
  a family-friendly film every other week this Summer. Enjoy cinematic fun,
  where stories come to life on the big screen.Showing Film: Wicked: For Go
 od (PG)Now demonized as the Wicked Witch of the West, Elphaba lives in exi
 le in the Ozian forest, while Glinda resides at the palace in Emerald City
 , reveling in the perks of fame and popularity. As an angry mob rises agai
 nst the Wicked Witch, she&#039;ll need to reunite with Glinda to transform
  herself, and all of Oz, for good.
URL:https://dallaslibrary.librarymarket.com/index.php/event/movie-nite-508
 340
END:VEVENT
END:VCALENDAR
