BEGIN:VCALENDAR
VERSION:2.0
PRODID:-//Library Market//iCal Export//EN
BEGIN:VEVENT
SUMMARY:Movie Nite
UID:508341
DTSTAMP:20260421T192400Z
DTSTART:20260616T220000Z
DTEND:20260617T003000Z
LOCATION:Mountain Creek Branch Library, 6102 Mountain Creek Parkway, Dalla
 s, TX 75249, United States
ROOM: Mountain Creek - Study Room
DESCRIPTION:Lights, laughter, and a little movie magic! Beat the heat with
  a family-friendly film every other week this Summer. Enjoy cinematic fun,
  where stories come to life on the big screen.Showing Film: The SpongeBob 
 Movie: Search for SquarePants (PG)Hoping to prove his bravery to Mr. Krabs
 , SpongeBob follows a mysterious, swashbuckling ghost pirate known as the 
 Flying Dutchman on a seafaring adventure that takes him to the deepest dep
 ths of the ocean.
URL:https://dallaslibrary.librarymarket.com/index.php/event/movie-nite-508
 341
END:VEVENT
END:VCALENDAR
