BEGIN:VCALENDAR
VERSION:2.0
PRODID:-//Library Market//iCal Export//EN
BEGIN:VEVENT
SUMMARY:Movie Nite
UID:508342
DTSTAMP:20260422T043000Z
DTSTART:20260630T220000Z
DTEND:20260701T003000Z
LOCATION:Mountain Creek Branch Library, 6102 Mountain Creek Parkway, Dalla
 s, TX 75249, United States
ROOM: Mountain Creek - Auditorium
DESCRIPTION:Lights, laughter, and a little movie magic! Beat the heat with
  a family-friendly film every other week this Summer. Enjoy cinematic fun,
  where stories come to life on the big screen.Showing Film: Zootopia 2 (PG
 )Rookie cops Judy Hopps and Nick Wilde find themselves on the twisting tra
 il of a great mystery when Gary De&#039;Snake arrives in Zootropolis and t
 urns the animal metropolis upside down. To crack the case, Judy and Nick m
 ust go undercover to unexpected new parts of town, where their growing par
 tnership is tested like never before.
URL:https://dallaslibrary.librarymarket.com/index.php/event/movie-nite-508
 342
END:VEVENT
END:VCALENDAR
