BEGIN:VCALENDAR
VERSION:2.0
PRODID:-//Library Market//iCal Export//EN
BEGIN:VEVENT
SUMMARY:Movie Nite
UID:508343
DTSTAMP:20260423T010200Z
DTSTART:20260714T220000Z
DTEND:20260715T003000Z
LOCATION:Mountain Creek Branch Library, 6102 Mountain Creek Parkway, Dalla
 s, TX 75249, United States
ROOM: Mountain Creek - Auditorium
DESCRIPTION:Lights, laughter, and a little movie magic! Beat the heat with
  a family-friendly film every other week this Summer. Enjoy cinematic fun,
  where stories come to life on the big screen.Showing Film: The Bad Guys 2
 Reformed criminals Mr. Wolf, Mr. Snake, Mr. Piranha, Mr. Shark, and Ms. Ta
 rantula are trying very hard to be good. However, they soon find themselve
 s hijacked into a high-stakes heist that&#039;s masterminded by a new team
  of delinquents they never saw coming -- the Bad Girls.
URL:https://dallaslibrary.librarymarket.com/index.php/event/movie-nite-508
 343
END:VEVENT
END:VCALENDAR
