BEGIN:VCALENDAR
VERSION:2.0
PRODID:-//Library Market//iCal Export//EN
BEGIN:VEVENT
SUMMARY:Movie Nite
UID:508344
DTSTAMP:20260422T050600Z
DTSTART:20260728T220000Z
DTEND:20260729T003000Z
LOCATION:Mountain Creek Branch Library, 6102 Mountain Creek Parkway, Dalla
 s, TX 75249, United States
ROOM: Mountain Creek - Auditorium
DESCRIPTION:Lights, laughter, and a little movie magic! Beat the heat with
  a family-friendly film every other week this Summer. Enjoy cinematic fun,
  where stories come to life on the big screen.Showing Film: How to Train Y
 our Dragon (Live Action) (PG)On the rugged isle of Berk, a Viking boy name
 d Hiccup defies centuries of tradition by befriending a dragon named Tooth
 less. However, when an ancient threat emerges that endangers both species,
  Hiccup&#039;s friendship with Toothless becomes the key to forging a new 
 future. Together, they must navigate the delicate path toward peace, soari
 ng beyond the boundaries of their worlds and redefining what it means to b
 e a hero and a leader.
URL:https://dallaslibrary.librarymarket.com/index.php/event/movie-nite-508
 344
END:VEVENT
END:VCALENDAR
