BEGIN:VCALENDAR
VERSION:2.0
PRODID:-//Library Market//iCal Export//EN
BEGIN:VEVENT
SUMMARY:Chess Club
UID:508353
DTSTAMP:20260421T192400Z
DTSTART:20260617T190000Z
DTEND:20260617T210000Z
LOCATION:Mountain Creek Branch Library, 6102 Mountain Creek Parkway, Dalla
 s, TX 75249, United States
ROOM: Mountain Creek - In Library
DESCRIPTION:Checkmate boredom before it even begins! Gather for a fun and 
 engaging chess club designed for all skill levels, from beginners learning
  the basics to experienced players sharpening their strategy. Sessions inc
 lude guided instruction, friendly matches, and opportunities to build crit
 ical thinking, patience, and problem-solving skills in a supportive enviro
 nment.
URL:https://dallaslibrary.librarymarket.com/index.php/event/chess-club-508
 353
END:VEVENT
END:VCALENDAR
