BEGIN:VCALENDAR
VERSION:2.0
PRODID:-//Library Market//iCal Export//EN
BEGIN:VEVENT
SUMMARY:Free Friday
UID:508366
DTSTAMP:20260422T222200Z
DTSTART:20260626T190000Z
DTEND:20260626T200000Z
LOCATION:Mountain Creek Branch Library, 6102 Mountain Creek Parkway, Dalla
 s, TX 75249, United States
ROOM: Mountain Creek - Auditorium
DESCRIPTION:Explore a different hands-on craft with a new artist every Fri
 day this summer. Each session is designed to spark imagination, build comm
 unity, and let creativity run wild in a fun, uplifting space for all young
  artists. 
URL:https://dallaslibrary.librarymarket.com/index.php/event/free-fridays-5
 08366
END:VEVENT
END:VCALENDAR
