BEGIN:VCALENDAR
VERSION:2.0
PRODID:-//Library Market//iCal Export//EN
BEGIN:VEVENT
SUMMARY:6-7 Party
UID:508385
DTSTAMP:20260424T053500Z
DTSTART:20260606T190000Z
DTEND:20260606T203000Z
LOCATION:Mountain Creek Branch Library, 6102 Mountain Creek Parkway, Dalla
 s, TX 75249, United States
ROOM: Mountain Creek - In Library
DESCRIPTION:1, 2, 3, 4, 5.. 6 - 7! Step into the world of brainrot and in
 ternet memes of today’s digital culture. Enjoy interactive games, meme-i
 nspired challenges, and creative activities that bring online humor to lif
 e. Whether you&#039;re hitting the griddy, bottle flipping, or pinning the
  Skibidi to the toilet, there’s something for everyone to emote over. P
 art of SMART Summer sponsored by the Friends of the Dallas Public Library.
URL:https://dallaslibrary.librarymarket.com/index.php/event/6-7-party-5083
 85
END:VEVENT
END:VCALENDAR
