BEGIN:VCALENDAR
VERSION:2.0
PRODID:-//Library Market//iCal Export//EN
BEGIN:VEVENT
SUMMARY:Rainbow Spinners
UID:508386
DTSTAMP:20260422T013600Z
DTSTART:20260609T190000Z
DTEND:20260609T200000Z
LOCATION:Mountain Creek Branch Library, 6102 Mountain Creek Parkway, Dalla
 s, TX 75249, United States
ROOM: Mountain Creek - In Library
DESCRIPTION:Things are about to spin into action—get ready to see color
  in a whole new light! Explore the science behind color using the famous s
 pinning disc experiment inspired by Isaac Newton. Participants will create
  and test their own Newton’s discs and see how different colors blend to
 gether to appear white when spun around. Discover how art and motion can w
 ork together to create something surprising!
URL:https://dallaslibrary.librarymarket.com/index.php/event/stem-activity-
 508386
END:VEVENT
END:VCALENDAR
