BEGIN:VCALENDAR
VERSION:2.0
PRODID:-//Library Market//iCal Export//EN
BEGIN:VEVENT
SUMMARY:Perot STEM Adventure
UID:508387
DTSTAMP:20260422T062700Z
DTSTART:20260623T190000Z
DTEND:20260623T200000Z
LOCATION:Mountain Creek Branch Library, 6102 Mountain Creek Parkway, Dalla
 s, TX 75249, United States
ROOM: Mountain Creek - Auditorium
DESCRIPTION:Get ready to explore, build, and discover! Experience a Commun
 ity Science Meet-Up, a high-energy, station-based experience designed for 
 the whole family. Powered by the Perot Museum of Nature and Science educat
 ors, this program transforms the library into a pop-up laboratory where sc
 ience comes to life.This isn&#039;t your typical sit-down lecture. Familie
 s are invited to move through various STEM stations at their own pace, wor
 king together to solve challenges and create masterpieces. Whether you&#03
 9;re a budding engineer or a curious explorer, there is something for ever
 yone to dive into.This program is part of SMART Summer and sponsored by 
 the Perot Museum of Nature and Science 
URL:https://dallaslibrary.librarymarket.com/index.php/event/stem-activity-
 508387
END:VEVENT
END:VCALENDAR
