BEGIN:VCALENDAR
VERSION:2.0
PRODID:-//Library Market//iCal Export//EN
BEGIN:VEVENT
SUMMARY:Magic Slime
UID:508388
DTSTAMP:20260422T062700Z
DTSTART:20260707T190000Z
DTEND:20260707T200000Z
LOCATION:Mountain Creek Branch Library, 6102 Mountain Creek Parkway, Dalla
 s, TX 75249, United States
ROOM: Mountain Creek - Auditorium
DESCRIPTION:Prepare to be slime-chanted with science! Create custom magic 
 slime using special thermochromic pigments that change color with heat. As
  slime warms in hands, colors transform, adding a touch of “magic” to 
 every stretch and swirl.Part of SMART Summer sponsored by the Friends of t
 he Dallas Public Library.
URL:https://dallaslibrary.librarymarket.com/index.php/event/stem-activity-
 508388
END:VEVENT
END:VCALENDAR
