BEGIN:VCALENDAR
VERSION:2.0
PRODID:-//Library Market//iCal Export//EN
BEGIN:VEVENT
SUMMARY:Light Up Bookmark
UID:508389
DTSTAMP:20260422T062700Z
DTSTART:20260721T190000Z
DTEND:20260721T200000Z
LOCATION:Mountain Creek Branch Library, 6102 Mountain Creek Parkway, Dalla
 s, TX 75249, United States
ROOM: Mountain Creek - Auditorium
DESCRIPTION:Time to turn the page on ordinary bookmarks—because reading
  just got a glowing upgrade! Kids will build their own light-up bookmarks 
 that illuminate! Using simple circuits and creative design, participants l
 earn how electricity flows and powers LED lights.
URL:https://dallaslibrary.librarymarket.com/index.php/event/stem-activity-
 508389
END:VEVENT
END:VCALENDAR
