BEGIN:VCALENDAR
VERSION:2.0
PRODID:-//Library Market//iCal Export//EN
BEGIN:VEVENT
SUMMARY:Circus Party
UID:508409
DTSTAMP:20260422T013600Z
DTSTART:20260613T190000Z
DTEND:20260613T203000Z
LOCATION:Mountain Creek Branch Library, 6102 Mountain Creek Parkway, Dalla
 s, TX 75249, United States
ROOM: Mountain Creek - In Library
DESCRIPTION:Step right up—where the fun is in-tents, the laughs are fly
 ing, and the excitement is always in motion! This circus-themed family eve
 nt brings the big top to life with a 30-minute juggling performance full o
 f skill and surprises, a whimsical magician with surprises in their hat, p
 lus balloon artists creating fantastic balloon art right before the eyes. 
 Throughout the event, a variety of games and interactive activities keep t
 he energy high and the smiles going, offering entertainment for all ages i
 n a lively, festive atmosphere.Part of SMART Summer sponsored by the Frien
 ds of the Dallas Public Library.
URL:https://dallaslibrary.librarymarket.com/index.php/event/circus-party-5
 08409
END:VEVENT
END:VCALENDAR
