BEGIN:VCALENDAR
VERSION:2.0
PRODID:-//Library Market//iCal Export//EN
BEGIN:VEVENT
SUMMARY:K-Pop Party
UID:508411
DTSTAMP:20260421T192400Z
DTSTART:20260620T190000Z
DTEND:20260620T203000Z
LOCATION:Mountain Creek Branch Library, 6102 Mountain Creek Parkway, Dalla
 s, TX 75249, United States
ROOM: Mountain Creek - Auditorium
DESCRIPTION:Get ready to slay boredom this summer alongside Rumi, Mira, a
 nd Zoey! Step into an electrifying K-pop–inspired party that blends high
 -energy music, creativity, and action-packed fun for the whole family. Thi
 s vibrant event brings the world of K-Pop Demon Hunters to life through th
 emed crafts, interactive games, and exciting challenges that keep everyone
  moving and engaged.Part of SMART Summer sponsored by the Friends of the D
 allas Public Library.
URL:https://dallaslibrary.librarymarket.com/index.php/event/k-pop-party-50
 8411
END:VEVENT
END:VCALENDAR
