BEGIN:VCALENDAR
VERSION:2.0
PRODID:-//Library Market//iCal Export//EN
BEGIN:VEVENT
SUMMARY:Creepy Critters
UID:508414
DTSTAMP:20260424T221600Z
DTSTART:20260627T190000Z
DTEND:20260627T200000Z
LOCATION:Mountain Creek Branch Library, 6102 Mountain Creek Parkway, Dalla
 s, TX 75249, United States
ROOM: Mountain Creek - Auditorium
DESCRIPTION:Get up close with the fascinating world of crawling and slithe
 ring creatures! Observe a variety of live reptiles, insects, and other cri
 tters while learning about each animal’s habitat, behaviors, and unique 
 adaptations. Guided demonstrations encourage curiosity and respectful inte
 raction, helping families understand how these often-misunderstood creatur
 es survive and play important roles in the ecosystem.Part of SMART Summer 
 sponsored by the Friends of the Dallas Public Library.
URL:https://dallaslibrary.librarymarket.com/index.php/event/creepy-critter
 s-508414
END:VEVENT
END:VCALENDAR
