BEGIN:VCALENDAR
VERSION:2.0
PRODID:-//Library Market//iCal Export//EN
BEGIN:VEVENT
SUMMARY:S&#039;Winter Party
UID:508469
DTSTAMP:20260422T043000Z
DTSTART:20260725T190000Z
DTEND:20260725T203000Z
LOCATION:Mountain Creek Branch Library, 6102 Mountain Creek Parkway, Dalla
 s, TX 75249, United States
ROOM: Mountain Creek - Auditorium
DESCRIPTION:Feeling the heat? Come chill out—winter is making a surprise
  appearance this summer! Enjoy hands-on fun that brings snowy excitement t
 o the middle of summer with winter-themed games, activities, and playful c
 hallenges. To top it all off, Kona Ice will be on-site serving free snow 
 cones, adding the perfect icy treat to the day’s festivities. Perfect fo
 r families looking to chill out and have fun before the summer is over.Par
 t of SMART Summer sponsored by the Friends of the Dallas Public Library.
URL:https://dallaslibrary.librarymarket.com/index.php/event/swinter-party-
 508469
END:VEVENT
END:VCALENDAR
