BEGIN:VCALENDAR
VERSION:2.0
PRODID:-//Library Market//iCal Export//EN
BEGIN:VEVENT
SUMMARY:&quot;Arga Nova&quot; presented by Beckles Dancing Company
UID:510156
DTSTAMP:20260426T021000Z
DTSTART:20260618T220000Z
DTEND:20260618T230000Z
LOCATION:Bachman Lake Branch Library, 9480 Webb Chapel Road, Dallas, TX 75
 220, United States
ROOM: Bachman Lake - Black Box Theater
DESCRIPTION:In celebration of Juneteenth we have invited, &quot;Arga Nova&
 quot; from the Beckles Dancing Company to perform African dance and drummi
 ng. 
URL:https://dallaslibrary.librarymarket.com/index.php/event/arga-nova-pres
 ented-beckles-dancing-company-510156
END:VEVENT
END:VCALENDAR
