BEGIN:VCALENDAR
VERSION:2.0
PRODID:-//Library Market//iCal Export//EN
BEGIN:VEVENT
SUMMARY:Chess Club
UID:510159
DTSTAMP:20260421T213200Z
DTSTART:20260628T180000Z
DTEND:20260628T200000Z
LOCATION:Bachman Lake Branch Library, 9480 Webb Chapel Road, Dallas, TX 75
 220, United States
ROOM: Bachman Lake - Classroom A &amp; B
DESCRIPTION:Have you ever wanted to learn to play chess? Or are you alread
 y on your way to becoming a grandmaster?No matter your skill level, join u
 s twice monthly to play chess and hang out! We will also have other family
  games available for anyone who doesn&#039;t want to try chess.  
URL:https://dallaslibrary.librarymarket.com/index.php/event/chess-club-510
 159
END:VEVENT
END:VCALENDAR
