BEGIN:VCALENDAR
VERSION:2.0
PRODID:-//Library Market//iCal Export//EN
BEGIN:VEVENT
SUMMARY:Toddler Storytime
UID:510161
DTSTAMP:20260421T161700Z
DTSTART:20260630T153000Z
DTEND:20260630T163000Z
LOCATION:Bachman Lake Branch Library, 9480 Webb Chapel Road, Dallas, TX 75
 220, United States
ROOM: Bachman Lake - Classroom A &amp; B
DESCRIPTION:Stories, songs and rhymes to prepare your child to learn to re
 ad!Suggested ages: 3 years and younger
URL:https://dallaslibrary.librarymarket.com/index.php/event/toddler-storyt
 ime-510161
END:VEVENT
END:VCALENDAR
