BEGIN:VCALENDAR
VERSION:2.0
PRODID:-//Library Market//iCal Export//EN
BEGIN:VEVENT
SUMMARY:Life-Size Game Night
UID:510775
DTSTAMP:20260425T113500Z
DTSTART:20261108T223000Z
DTEND:20261109T000000Z
LOCATION:Paul Laurence Dunbar Lancaster-Kiest Branch Library, 2008 East Ki
 est Blvd., Dallas, TX 75216, United States
ROOM: Paul Laurence Dunbar Lancaster-Kiest - Bishop Larry Mcgriff Auditori
 um
DESCRIPTION:
URL:https://dallaslibrary.librarymarket.com/index.php/event/life-size-game
 -night-510775
END:VEVENT
END:VCALENDAR
