BEGIN:VCALENDAR
VERSION:2.0
PRODID:-//Library Market//iCal Export//EN
BEGIN:VEVENT
SUMMARY:Computer Help- CLP
UID:511149
DTSTAMP:20260422T222200Z
DTSTART:20260923T180000Z
DTEND:20260923T210000Z
LOCATION:Highland Hills Branch Library, 6200 Bonnie View Road, Dallas, TX 
 75241, United States
ROOM: Highland Hills - Computer Area
DESCRIPTION:Take advantage of the library’s Career Launch Pad service! B
 ook a one-on-one session with a library staff person to help you with your
  job search. Fill out applications, update your resume and find out about 
 local resources that can help you take your next step in your career.Addit
 ional help may include assistance setting up email or other online account
 .  Applying for government assistance (SNAP, housing, etc.) Computer assi
 stance or other device assistance.  Appointments preferred, walk-ins subj
 ect to availability. 
URL:https://dallaslibrary.librarymarket.com/index.php/event/computer-help-
 clp-511149
END:VEVENT
END:VCALENDAR
