BEGIN:VCALENDAR
VERSION:2.0
PRODID:-//Library Market//iCal Export//EN
BEGIN:VEVENT
SUMMARY:Dungeons and Dragons
UID:511295
DTSTAMP:20260421T192400Z
DTSTART:20260625T224500Z
DTEND:20260626T004500Z
LOCATION:Timberglen Branch Library, 18505 Midway Road, Dallas, TX 75287, U
 nited States
ROOM: Timberglen - Auditorium
DESCRIPTION:Learn to play Dungeons and Dragons-Attention all Paladins, Cle
 rics, and Bards! Come learn to play Dungeons and Dragons at the Timberglen
  Branch Library, or start up your own adventure. Beginners and Experts are
  all welcome at the table. Character sheets, dice, and beginner informatio
 n will be provided for those that need it. Never played before? No problem
 ! We will teach you the ropes and before you know it you&#039;ll be a Drag
 on slaying master. This should be a fantastical evening of adventure and m
 onster slaying! 
URL:https://dallaslibrary.librarymarket.com/index.php/event/dungeons-and-d
 ragons-511295
END:VEVENT
END:VCALENDAR
