BEGIN:VCALENDAR
VERSION:2.0
PRODID:-//Library Market//iCal Export//EN
BEGIN:VEVENT
SUMMARY:Acoustic Jam at the Library
UID:511361
DTSTAMP:20260422T222200Z
DTSTART:20260805T230000Z
DTEND:20260806T004500Z
LOCATION:Timberglen Branch Library, 18505 Midway Road, Dallas, TX 75287, U
 nited States
ROOM: Timberglen - Auditorium
DESCRIPTION:Adult Acoustic Guitar Jam. Come out and bring your acoustic gu
 itar or acoustic instrument. We will be learning songs and arrangements, a
 nd having a great time. 
URL:https://dallaslibrary.librarymarket.com/index.php/event/acoustic-jam-l
 ibrary-511361
END:VEVENT
END:VCALENDAR
