BEGIN:VCALENDAR
VERSION:2.0
PRODID:-//Library Market//iCal Export//EN
BEGIN:VEVENT
SUMMARY:Guitar Lessons for Beginners
UID:511372
DTSTAMP:20260422T222200Z
DTSTART:20260603T233000Z
DTEND:20260604T003000Z
LOCATION:Timberglen Branch Library, 18505 Midway Road, Dallas, TX 75287, U
 nited States
ROOM: Timberglen - Classroom
DESCRIPTION:Strum up some fun at the library! Join our beginner guitar les
 sons, where you&#039;ll learn the basics of chords, rhythm, and more. Begi
 nner Guitar lessons for Ages 12 and up.  Check our calendar for dates and
  times.
URL:https://dallaslibrary.librarymarket.com/index.php/event/guitar-lessons
 -beginners-511372
END:VEVENT
END:VCALENDAR
