BEGIN:VCALENDAR
VERSION:2.0
PRODID:-//Library Market//iCal Export//EN
BEGIN:VEVENT
SUMMARY:Free Summer Lunch
UID:511597
DTSTAMP:20260423T044100Z
DTSTART:20260806T170000Z
DTEND:20260806T173000Z
LOCATION:Skyline Branch Library, 6006 Everglade Road, Dallas, TX 75227, Un
 ited States
ROOM: Skyline - In Library
DESCRIPTION:Dallas Public Library branches are providing free summer meals
  to children and teens from 1-18 in partnership with the nonprofit hunger 
 organization Education Potential Verified. No proof of need or pre-registr
 ation is required to receive meals. Free meals program will continue throu
 gh August 7th. Meals are funded by the Texas Department of Agriculture’s
  Summer Food Service Program.
URL:https://dallaslibrary.librarymarket.com/index.php/event/free-summer-lu
 nch-511597
END:VEVENT
END:VCALENDAR
