BEGIN:VCALENDAR
VERSION:2.0
PRODID:-//Library Market//iCal Export//EN
BEGIN:VEVENT
SUMMARY:Carter Blood Drive
UID:511815
DTSTAMP:20260426T000800Z
DTSTART:20260605T170000Z
DTEND:20260605T213000Z
LOCATION:Pleasant Grove Branch Library, 7310 Lake June Road, Dallas, TX 75
 217, United States
ROOM: Pleasant Grove - Parking Lot
DESCRIPTION:Step up, North Texas—your community needs you! ⚽❤️ Joi
 n us for a special blood drive with Carter BloodCare as we gear up for a m
 ajor international soccer tournament coming this June. With over 100,000 v
 isitors expected and summer shortages on the horizon, your donation helps 
 keep local hospitals ready when it matters most.Make an impact and enjoy t
 he perks:• Score an exclusive soccer-inspired donor scarf• Be part of 
 a fun, high-energy community event• Enter to win Meet &amp; Greet giveaw
 ays (see CarterBloodCare.org for details)Give blood. Support your communit
 y. Be a game-changer.
URL:https://dallaslibrary.librarymarket.com/index.php/event/carter-blood-d
 rive-511815
END:VEVENT
END:VCALENDAR
