BEGIN:VCALENDAR
VERSION:2.0
PRODID:-//Library Market//iCal Export//EN
BEGIN:VEVENT
SUMMARY:Toddler Storytime
UID:511899
DTSTAMP:20260426T021000Z
DTSTART:20260513T160000Z
DTEND:20260513T170000Z
LOCATION:Highland Hills Branch Library, 6200 Bonnie View Road, Dallas, TX 
 75241, United States
ROOM: Highland Hills - Children&#039;s Area
DESCRIPTION:Story Time at the library! 📚✨ Little ones will enjoy fun 
 stories, songs, and simple activities designed to spark imagination, build
  early literacy skills, and encourage a love of reading. Perfect for child
 ren ages 0–6 and their caregivers.
URL:https://dallaslibrary.librarymarket.com/index.php/event/copy-toddler-s
 torytime-511899
END:VEVENT
END:VCALENDAR
