BEGIN:VCALENDAR
VERSION:2.0
PRODID:-//Library Market//iCal Export//EN
BEGIN:VEVENT
SUMMARY:Toddler Storytime
UID:512230
DTSTAMP:20260426T000800Z
DTSTART:20260910T153000Z
DTEND:20260910T160000Z
LOCATION:Lakewood Branch Library, 6121 Worth Street, Dallas, TX 75214, Uni
 ted States
ROOM: Lakewood - Auditorium
DESCRIPTION:Practice the skills you need to be ready to read. Hear stories
 , sing songs, jump around and learn!Suggested ages: 18 months - 3 years ol
 d
URL:https://dallaslibrary.librarymarket.com/index.php/event/toddler-storyt
 ime-512230
END:VEVENT
END:VCALENDAR
