BEGIN:VCALENDAR
VERSION:2.0
PRODID:-//Library Market//iCal Export//EN
BEGIN:VEVENT
SUMMARY:One BIG Toddler Storytime
UID:512231
DTSTAMP:20260425T191900Z
DTSTART:20260917T153000Z
DTEND:20260917T161500Z
LOCATION:Lakewood Branch Library, 6121 Worth Street, Dallas, TX 75214, Uni
 ted States
ROOM: Lakewood - Children&#039;s Area
DESCRIPTION:Practice the skills you need to be ready to read. Hear stories
 , sing songs, jump around and learn!Suggested ages: 18 months - 3 years ol
 d
URL:https://dallaslibrary.librarymarket.com/index.php/event/toddler-storyt
 ime-512231
END:VEVENT
END:VCALENDAR
