BEGIN:VCALENDAR
VERSION:2.0
PRODID:-//Library Market//iCal Export//EN
BEGIN:VEVENT
SUMMARY:Knit Wits
UID:512345
DTSTAMP:20260425T145300Z
DTSTART:20260915T183000Z
DTEND:20260915T203000Z
LOCATION:Lakewood Branch Library, 6121 Worth Street, Dallas, TX 75214, Uni
 ted States
ROOM: Lakewood - In Library
DESCRIPTION:Come knit and be a wit!......... (Crochet...if you must...)
URL:https://dallaslibrary.librarymarket.com/index.php/event/knit-wits-5123
 45
END:VEVENT
END:VCALENDAR
